BEGIN:VCALENDAR
VERSION:2.0
PRODID:-//Run Nova Scotia - ECPv6.15.17.1//NONSGML v1.0//EN
CALSCALE:GREGORIAN
METHOD:PUBLISH
X-ORIGINAL-URL:https://runnovascotia.ca
X-WR-CALDESC:Events for Run Nova Scotia
REFRESH-INTERVAL;VALUE=DURATION:PT1H
X-Robots-Tag:noindex
X-PUBLISHED-TTL:PT1H
BEGIN:VTIMEZONE
TZID:America/Halifax
BEGIN:DAYLIGHT
TZOFFSETFROM:-0400
TZOFFSETTO:-0300
TZNAME:ADT
DTSTART:20250309T060000
END:DAYLIGHT
BEGIN:STANDARD
TZOFFSETFROM:-0300
TZOFFSETTO:-0400
TZNAME:AST
DTSTART:20251102T050000
END:STANDARD
BEGIN:DAYLIGHT
TZOFFSETFROM:-0400
TZOFFSETTO:-0300
TZNAME:ADT
DTSTART:20260308T060000
END:DAYLIGHT
BEGIN:STANDARD
TZOFFSETFROM:-0300
TZOFFSETTO:-0400
TZNAME:AST
DTSTART:20261101T050000
END:STANDARD
BEGIN:DAYLIGHT
TZOFFSETFROM:-0400
TZOFFSETTO:-0300
TZNAME:ADT
DTSTART:20270314T060000
END:DAYLIGHT
BEGIN:STANDARD
TZOFFSETFROM:-0300
TZOFFSETTO:-0400
TZNAME:AST
DTSTART:20271107T050000
END:STANDARD
END:VTIMEZONE
BEGIN:VEVENT
DTSTART;TZID=America/Halifax:20260531T100000
DTEND;TZID=America/Halifax:20260531T100000
DTSTAMP:20260424T131228
CREATED:20260224T003905Z
LAST-MODIFIED:20260224T005519Z
UID:1593-1780221600-1780221600@runnovascotia.ca
SUMMARY:MET Madness(Youth Running Series)
DESCRIPTION:Wear PINK and run against bullying!
URL:https://runnovascotia.ca/event/2026-met-madness-yrs/
LOCATION:Metropolitan Field\, Lower Sackville\, Nova Scotia\, Canada
CATEGORIES:Youth Running Series
END:VEVENT
END:VCALENDAR