BEGIN:VCALENDAR
VERSION:2.0
PRODID:-//Run Nova Scotia - ECPv6.15.17.1//NONSGML v1.0//EN
CALSCALE:GREGORIAN
METHOD:PUBLISH
X-WR-CALNAME:Run Nova Scotia
X-ORIGINAL-URL:https://runnovascotia.ca
X-WR-CALDESC:Events for Run Nova Scotia
REFRESH-INTERVAL;VALUE=DURATION:PT1H
X-Robots-Tag:noindex
X-PUBLISHED-TTL:PT1H
BEGIN:VTIMEZONE
TZID:America/Halifax
BEGIN:DAYLIGHT
TZOFFSETFROM:-0400
TZOFFSETTO:-0300
TZNAME:ADT
DTSTART:20250309T060000
END:DAYLIGHT
BEGIN:STANDARD
TZOFFSETFROM:-0300
TZOFFSETTO:-0400
TZNAME:AST
DTSTART:20251102T050000
END:STANDARD
BEGIN:DAYLIGHT
TZOFFSETFROM:-0400
TZOFFSETTO:-0300
TZNAME:ADT
DTSTART:20260308T060000
END:DAYLIGHT
BEGIN:STANDARD
TZOFFSETFROM:-0300
TZOFFSETTO:-0400
TZNAME:AST
DTSTART:20261101T050000
END:STANDARD
BEGIN:DAYLIGHT
TZOFFSETFROM:-0400
TZOFFSETTO:-0300
TZNAME:ADT
DTSTART:20270314T060000
END:DAYLIGHT
BEGIN:STANDARD
TZOFFSETFROM:-0300
TZOFFSETTO:-0400
TZNAME:AST
DTSTART:20271107T050000
END:STANDARD
END:VTIMEZONE
BEGIN:VEVENT
DTSTART;TZID=America/Halifax:20260620T080000
DTEND;TZID=America/Halifax:20260620T080000
DTSTAMP:20260424T210135
CREATED:20260211T184549Z
LAST-MODIFIED:20260417T200329Z
UID:1514-1781942400-1781942400@runnovascotia.ca
SUMMARY:Ulnooweg Summer Solstice Run
DESCRIPTION:Experience a vibrant celebration of culture and community! The event begins and ends with traditional ceremonies led by Indigenous Elders\, accompanied by drumming and singers. After the run\, which winds through Millbrook First Nation community\, enjoy a hearty breakfast buffet.
URL:https://runnovascotia.ca/event/2026-ulnooweg-summer-solstice-run/
LOCATION:Millbrook\, Millbrook\, Nova Scotia\, Canada
CATEGORIES:Performance Series,Road Race Series
END:VEVENT
BEGIN:VEVENT
DTSTART;TZID=America/Halifax:20260620T100000
DTEND;TZID=America/Halifax:20260620T100000
DTSTAMP:20260424T210135
CREATED:20260224T004210Z
LAST-MODIFIED:20260224T005423Z
UID:1598-1781949600-1781949600@runnovascotia.ca
SUMMARY:Aerobics First Gorsebrook Hill Run(Youth Running Series)
DESCRIPTION:Wear ORANGE for National Indigenous Peoples Day!
URL:https://runnovascotia.ca/event/2026-aerobics-first-gorsebrook-hill-run-yrs/
LOCATION:Gorsebrook Field\, Halifax\, Nova Scotia\, Canada
CATEGORIES:Youth Running Series
END:VEVENT
END:VCALENDAR