BEGIN:VCALENDAR
VERSION:2.0
PRODID:-//Run Nova Scotia - ECPv6.15.17.1//NONSGML v1.0//EN
CALSCALE:GREGORIAN
METHOD:PUBLISH
X-WR-CALNAME:Run Nova Scotia
X-ORIGINAL-URL:https://runnovascotia.ca
X-WR-CALDESC:Events for Run Nova Scotia
REFRESH-INTERVAL;VALUE=DURATION:PT1H
X-Robots-Tag:noindex
X-PUBLISHED-TTL:PT1H
BEGIN:VTIMEZONE
TZID:America/Halifax
BEGIN:DAYLIGHT
TZOFFSETFROM:-0400
TZOFFSETTO:-0300
TZNAME:ADT
DTSTART:20250309T060000
END:DAYLIGHT
BEGIN:STANDARD
TZOFFSETFROM:-0300
TZOFFSETTO:-0400
TZNAME:AST
DTSTART:20251102T050000
END:STANDARD
BEGIN:DAYLIGHT
TZOFFSETFROM:-0400
TZOFFSETTO:-0300
TZNAME:ADT
DTSTART:20260308T060000
END:DAYLIGHT
BEGIN:STANDARD
TZOFFSETFROM:-0300
TZOFFSETTO:-0400
TZNAME:AST
DTSTART:20261101T050000
END:STANDARD
BEGIN:DAYLIGHT
TZOFFSETFROM:-0400
TZOFFSETTO:-0300
TZNAME:ADT
DTSTART:20270314T060000
END:DAYLIGHT
BEGIN:STANDARD
TZOFFSETFROM:-0300
TZOFFSETTO:-0400
TZNAME:AST
DTSTART:20271107T050000
END:STANDARD
END:VTIMEZONE
BEGIN:VEVENT
DTSTART;TZID=America/Halifax:20260906T090000
DTEND;TZID=America/Halifax:20260906T090000
DTSTAMP:20260421T085812
CREATED:20260121T165843Z
LAST-MODIFIED:20260211T195205Z
UID:1444-1788685200-1788685200@runnovascotia.ca
SUMMARY:Berwick Gala Days 5 Mile Road Race
DESCRIPTION:Labour Day Weekend!
URL:https://runnovascotia.ca/event/2026-berwick-gala-days/
LOCATION:Berwick\, Berwick\, Canada
CATEGORIES:Road Race Series
END:VEVENT
END:VCALENDAR