BEGIN:VCALENDAR
VERSION:2.0
PRODID:-//Run Nova Scotia - ECPv6.15.17.1//NONSGML v1.0//EN
CALSCALE:GREGORIAN
METHOD:PUBLISH
X-WR-CALNAME:Run Nova Scotia
X-ORIGINAL-URL:https://runnovascotia.ca
X-WR-CALDESC:Events for Run Nova Scotia
REFRESH-INTERVAL;VALUE=DURATION:PT1H
X-Robots-Tag:noindex
X-PUBLISHED-TTL:PT1H
BEGIN:VTIMEZONE
TZID:America/Halifax
BEGIN:DAYLIGHT
TZOFFSETFROM:-0400
TZOFFSETTO:-0300
TZNAME:ADT
DTSTART:20250309T060000
END:DAYLIGHT
BEGIN:STANDARD
TZOFFSETFROM:-0300
TZOFFSETTO:-0400
TZNAME:AST
DTSTART:20251102T050000
END:STANDARD
BEGIN:DAYLIGHT
TZOFFSETFROM:-0400
TZOFFSETTO:-0300
TZNAME:ADT
DTSTART:20260308T060000
END:DAYLIGHT
BEGIN:STANDARD
TZOFFSETFROM:-0300
TZOFFSETTO:-0400
TZNAME:AST
DTSTART:20261101T050000
END:STANDARD
BEGIN:DAYLIGHT
TZOFFSETFROM:-0400
TZOFFSETTO:-0300
TZNAME:ADT
DTSTART:20270314T060000
END:DAYLIGHT
BEGIN:STANDARD
TZOFFSETFROM:-0300
TZOFFSETTO:-0400
TZNAME:AST
DTSTART:20271107T050000
END:STANDARD
END:VTIMEZONE
BEGIN:VEVENT
DTSTART;TZID=America/Halifax:20260927T093000
DTEND;TZID=America/Halifax:20260927T093000
DTSTAMP:20260425T074631
CREATED:20260408T175121Z
LAST-MODIFIED:20260408T175121Z
UID:1656-1790501400-1790501400@runnovascotia.ca
SUMMARY:Paradise Apple Fun Run
DESCRIPTION:Join us for the Paradise Apple Fun Run — a 5km experience as sweet as it sounds! Breathe in the fresh valley air\, feel the crunch of the orchard path beneath your feet\, and soak up the beauty of Paradise as you wind your way through our beloved local apple orchard and along the Harvest Moon Trail.  Whether you’re a seasoned runner\, a weekend walker\, or just someone who loves a good community day out\, this apple‑themed 5km is the perfect way to celebrate fall\, movement\, and local flavour. \nExpect cheerful volunteers\, orchard views that practically glow\, and a few delicious apple surprises waiting at the finish line. Bring your friends\, bring your family — or just bring your love of a good time. \nRegistration 9:00 am; Children’s run starts at 9:30 am; 5 km run will start at approximately 10:30 am. \nParking available nearby. \nPlease note that dogs are not permitted on the course – except service dogs. \nFresh air\, fresh apples\, fresh fun. Sign up today and come “Run in Paradise”.
URL:https://runnovascotia.ca/event/2026-paradise-apple-fun-run/
LOCATION:Paradise\, Paradise\, Nova Scotia\, Canada
END:VEVENT
BEGIN:VEVENT
DTSTART;TZID=America/Halifax:20261003T110000
DTEND;TZID=America/Halifax:20261003T110000
DTSTAMP:20260425T074631
CREATED:20260224T004841Z
LAST-MODIFIED:20260224T005229Z
UID:1606-1791025200-1791025200@runnovascotia.ca
SUMMARY:Trail Mayhem(Youth Running Series)
DESCRIPTION:It’s the best time of year to visit the valley!
URL:https://runnovascotia.ca/event/2026-trail-mayhem-yrs/
LOCATION:Ontree Adventure Park\, Ski Martock\, Windsor\, Nova Scotia\, Canada
CATEGORIES:Youth Running Series
END:VEVENT
BEGIN:VEVENT
DTSTART;TZID=America/Halifax:20261018T080000
DTEND;TZID=America/Halifax:20261018T080000
DTSTAMP:20260425T074631
CREATED:20260211T200638Z
LAST-MODIFIED:20260211T222846Z
UID:1561-1792310400-1792310400@runnovascotia.ca
SUMMARY:Cape Breton Fiddlers Marathon
DESCRIPTION:The Cape Breton Fiddlers Marathon is a flat\, paved course running along Sydney’s downtown waterfront. There are four distances to choose from\, 5K\, 10K\, Half Marathon and Full Marathon. All distances are on the Run Nova Scotia Road Race Series. The 10K and the Half Marathon are also on the Performance Series.
URL:https://runnovascotia.ca/event/2026-cape-breton-fiddlers-marathon/
LOCATION:Sydney\, Sydney\, Nova Scotia\, Canada
CATEGORIES:Performance Series,Road Race Series
END:VEVENT
BEGIN:VEVENT
DTSTART;TZID=America/Halifax:20261018T090000
DTEND;TZID=America/Halifax:20261018T090000
DTSTAMP:20260425T074631
CREATED:20260309T234114Z
LAST-MODIFIED:20260309T234114Z
UID:1629-1792314000-1792314000@runnovascotia.ca
SUMMARY:Run51 - Moving for Women's Health
DESCRIPTION:Run51 is a 5.1 km run/walk dedicated to raising awareness and funds for older women’s health research. Proceeds from this event support the Women’s Age Lab at Women’s College Hospital\, Canada’s first research lab devoted to aging women’s health.
URL:https://runnovascotia.ca/event/run51-moving-for-womens-health/
LOCATION:Cornwallis Park\, Cornwallis Park\, Nova Scotia\, Canada
END:VEVENT
BEGIN:VEVENT
DTSTART;TZID=America/Halifax:20261031T100000
DTEND;TZID=America/Halifax:20261031T100000
DTSTAMP:20260425T074631
CREATED:20260224T005147Z
LAST-MODIFIED:20260224T005147Z
UID:1610-1793440800-1793440800@runnovascotia.ca
SUMMARY:Scary Beazley(Youth Running Series)
DESCRIPTION:Wear your Halloween costume if you dare!
URL:https://runnovascotia.ca/event/2026-scary-beazley-yrs/
LOCATION:Beazley Fields\, Dartmouth\, Nova Scotia\, Canada
CATEGORIES:Youth Running Series
END:VEVENT
END:VCALENDAR